BEGIN:VCALENDAR
VERSION:2.0
PRODID:-//ExpressionEngine Easy iCalendar plugin//NONSGML v2.0.1//EN
X-WR-TIMEZONE:America/New_York
X-WR-CALNAME:Upcoming Auctions
BEGIN:VEVENT
UID:100495
DTSTAMP:20230504T200000
DTSTART:20230504T200000
DTEND:20230511T190000
SUMMARY:Spring Fling Auction
LOCATION:770 Cornell Rd\, 770 Cornell Rd\, Rocky Mount\, VA 24151\, US
DESCRIPTION:Spring Fling Auction Bidding Opens - Thursday\, May 4th at 7P
 M Bidding Closes - Thursday\, May 11th beginning at 7PM Previ
 ew/Open-House - Thursday\, May 11th from 2PM till 5:30PM Pick
 up/Removal - Friday\, May 12th from 10AM till 5:30PM Please N
 ote: All items are sold as-is and where-is with no warranty 
 expressed or implied. A 15% buyer premium applies to all pur
 chases\, as does VA sales tax. Pay with cash or good check an
 d receive a 3% discount off the premium. Items not claimed/r
 emoved on pickup date will be assessed a $7 alternate pickup
  fee. Furniture and other large items (that will not fit in 
 a box) will be subject to an additional $20 storage fee. All
  invoices must be paid within 24 hours of auction ending. $1
 5 transfer fee for firearms. Lucky Dog Auction is a licensed
  FFL dealer. All local\,state\, and federal laws apply. 
URL:https://www.luckydogauction.com/auctions/detail/bw100495
SEQUENCE:1
END:VEVENT
END:VCALENDAR