BEGIN:VCALENDAR
VERSION:2.0
PRODID:-//ExpressionEngine Easy iCalendar plugin//NONSGML v2.0.1//EN
X-WR-TIMEZONE:America/New_York
X-WR-CALNAME:Upcoming Auctions
BEGIN:VEVENT
UID:101356
DTSTAMP:20230522T120000
DTSTART:20230522T120000
DTEND:20230530T190000
SUMMARY:4965 Bower Road Estate (Roanoke)
LOCATION:4965 Bower Road\, Roanoke\, VA 24018\, US
DESCRIPTION:4965 Bower Road Estate (Roanoke) Bidding Opens - Monday\, May
  22nd at NOON Bidding Closes - Tuesday\, May 30th beginning a
 t 7PM Preview /Open-House - Tuesday\, May 30th from 2PM till 
 5:30PM Removal/Pickup - Wednesday\, May 31st from 10AM till 5
 :30PM at 4965 Bower Rd Roanoke\, VA 24018 Please Note: All it
 ems are sold as-is and where-is with no warranty expressed o
 r implied. A 15% buyer premium applies to all purchases\, as 
 does VA sales tax. Receive 3% discount off the premium by pa
 ying with cash or good check. This is an onsite auction loca
 ted in Roanoke\, VA. Please bring help to load. Wednesday\, Ma
 y 31st from 10AM till 5:30PM is the only available pickup/re
 moval time. If you can't make the scheduled pickup\, we ask y
 ou refrain from bidding. Thank you! 
URL:https://www.luckydogauction.com/auctions/detail/bw101356
SEQUENCE:1
END:VEVENT
END:VCALENDAR