BEGIN:VCALENDAR
VERSION:2.0
PRODID:-//ExpressionEngine Easy iCalendar plugin//NONSGML v2.0.1//EN
X-WR-TIMEZONE:America/New_York
X-WR-CALNAME:Upcoming Auctions
BEGIN:VEVENT
UID:101423
DTSTAMP:20230522T190000
DTSTART:20230522T190000
DTEND:20230604T190000
SUMMARY:May Consignment Auction - Part 2
LOCATION:770 Cornell Road\, Rocky Mount\, VA 24151\, US
DESCRIPTION:May Consignment Auction - Part 2 Bidding Opens - Monday\, May
  22nd at 7PM Bidding Closes - Sunday\, June 4th beginning at 
 7PM Preview/Open-House - Friday\, June 2nd from 2PM till 5:30
 PM  Removal/Pickup - Monday\, June 5th from 10AM till 5:30PM
   Please Note: All items are sold as-is and where-is with n
 o warranty expressed or implied. A 15% buyer premium applies
  to all purchases\, as does VA sales tax. Receive a 3% discou
 nt off the premium by paying with cash or good check. 
URL:https://www.luckydogauction.com/auctions/detail/bw101423
SEQUENCE:1
END:VEVENT
END:VCALENDAR