BEGIN:VCALENDAR
VERSION:2.0
PRODID:-//ExpressionEngine Easy iCalendar plugin//NONSGML v2.0.1//EN
X-WR-TIMEZONE:America/New_York
X-WR-CALNAME:Upcoming Auctions
BEGIN:VEVENT
UID:102056
DTSTAMP:20230603T190000
DTSTART:20230603T190000
DTEND:20230612T190000
SUMMARY:June Consignment Auction
LOCATION:770 Cornell Road\, RocKy Mount\, VA 24151\, US
DESCRIPTION:June Consignment Auction  Bidding Opens - Saturday\, June 3r
 d at 7PM Bidding Closes - Monday\, June 12th beginning at 7PM
  Preview/Open-House - Monday\, June 12th from 2PM till 5:30PM
  Pickup/Removal - Tuesday\, June 13th from 10AM to 5:30PM  P
 lease Note: All items are sold as-is and where-is with no wa
 rranty expressed or implied. 15% buyer premium applies to al
 l purchases\, as does VA sales tax. Receive a 3% discount off
  the premium by paying with cash or good check. 
URL:https://www.luckydogauction.com/auctions/detail/bw102056
SEQUENCE:1
END:VEVENT
END:VCALENDAR