BEGIN:VCALENDAR
VERSION:2.0
PRODID:-//ExpressionEngine Easy iCalendar plugin//NONSGML v2.0.1//EN
X-WR-TIMEZONE:America/New_York
X-WR-CALNAME:Upcoming Auctions
BEGIN:VEVENT
UID:102303
DTSTAMP:20230607T190000
DTSTART:20230607T190000
DTEND:20230615T190000
SUMMARY:Ammo & Accessory Auction
LOCATION:770 Cornell Street\, Rocky Mount\, VA 24151\, US
DESCRIPTION:Ammo & Accessory Auction Bidding Opens - Wednesday\, June 7th
  at 7PM Bidding Closes - Thursday\, June 15th beginning at 7P
 M Preview/Open-House - Thursday\, June 15th from NOON till 5P
 M Removal/Pickup - Friday\, June 16th from 10AM till 5:30PM P
 lease Note: All items are sold as-is and where-is with no wa
 rranty expressed or implied. A 15% buyer premium applies to 
 all purchase\, as does VA sales tax. Example: Your items tota
 l $100\, the bill will be $115 plus tax. Receive a 3% discou
 nt off the premium by paying with cash or good check. 
URL:https://www.luckydogauction.com/auctions/detail/bw102303
SEQUENCE:1
END:VEVENT
END:VCALENDAR