BEGIN:VCALENDAR
VERSION:2.0
PRODID:-//ExpressionEngine Easy iCalendar plugin//NONSGML v2.0.1//EN
X-WR-TIMEZONE:America/New_York
X-WR-CALNAME:Upcoming Auctions
BEGIN:VEVENT
UID:102762
DTSTAMP:20230615T190000
DTSTART:20230615T190000
DTEND:20230626T190000
SUMMARY:Shop Liquidation Auction
LOCATION:20734 VHG Hwy\, 20734 VHG Hwy\, Rocky Mount\, VA 24151\, US
DESCRIPTION:Shop Contents Liquidation - LOCATED AT 20734 Virgil H Goode 
 Hwy Rocky Mount\, VA 24151 Bidding Opens - Thursday\, June 15t
 h at 7PM Bidding Closes - Monday\, June 26th beginning at 7PM
  Preview/Open-House - Monday\, June 26th from 2PM till 5:30PM
  Mandatory Pickup/Removal - Tuesday\, June 27th from 10AM un
 til 5:30PM Please Note: All items are sold as-is and where-i
 s with no warranty expressed or implied. A 15% buyer premium
  applies to all purchases\, as does VA sales tax. Receive a 3
 % discount off the premium by paying with cash or check. 
URL:https://www.luckydogauction.com/auctions/detail/bw102762
SEQUENCE:1
END:VEVENT
END:VCALENDAR