BEGIN:VCALENDAR
VERSION:2.0
PRODID:-//ExpressionEngine Easy iCalendar plugin//NONSGML v2.0.1//EN
X-WR-TIMEZONE:America/New_York
X-WR-CALNAME:Upcoming Auctions
BEGIN:VEVENT
UID:104305
DTSTAMP:20230714T190000
DTSTART:20230714T190000
DTEND:20230720T190000
SUMMARY:Sherwood Estate Auction
LOCATION:231 Freedom Lane\, Wirtz\, VA 24184\, US
DESCRIPTION:Sherwood Estate Auction Auction preview and removal are loca
 ted onsite at 231 Freedom Lane Wirtz\, VA 24184. Please make 
 note of the important dates below: Bidding Opens - Friday\, J
 uly 14th at 7PM Bidding Closes - Thursday\, July 20th beginni
 ng at 7PM Preview/Open-House - Thursday\, July 20th from 2PM 
 till 5:30PM Removal - Friday\, July 21st from 10AM till 5:30P
 M - Bring Help To Load!  Please Note: All items are sold as
 -is and where-is with no warranty expressed or implied. All 
 items are located at 231 Freedom Lane in Wirtz\, VA - Buyers 
 will be responsible for moving/loading their own items. 15% 
 buyer premium applies to all purchases\, as does VA sales tax
 . Receive a 3% discount off the premium by paying with cash 
 or check. If items are not picked on the designated removal 
 date\, your card will be charged for your items and they will
  be considered abandoned. We politely ask if you can't make 
 the removal date please refrain from bidding.   
URL:https://www.luckydogauction.com/auctions/detail/bw104305
SEQUENCE:1
END:VEVENT
END:VCALENDAR