BEGIN:VCALENDAR
VERSION:2.0
PRODID:-//ExpressionEngine Easy iCalendar plugin//NONSGML v2.0.1//EN
X-WR-TIMEZONE:America/New_York
X-WR-CALNAME:Upcoming Auctions
BEGIN:VEVENT
UID:104359
DTSTAMP:20230717T190000
DTSTART:20230717T190000
DTEND:20230803T110000
SUMMARY:4965 Bower Road Real Estate Auction
LOCATION:{location}
DESCRIPTION:4965 Bower Road (Roanoke) Real Estate Auction Bidding Opens 
 - Monday\, July 17th at 7PM Bidding Closes - Thursday\, August
  3rd at 11AM  Open-House - Saturday\, July 22nd from 9AM til
 l NOON & Saturday\, July 29th from 9AM till NOON Call Phillip
  Via at (540) 312-8569 for more information. 
URL:https://www.luckydogauction.com/auctions/detail/bw104359
SEQUENCE:1
END:VEVENT
END:VCALENDAR