BEGIN:VCALENDAR
VERSION:2.0
PRODID:-//ExpressionEngine Easy iCalendar plugin//NONSGML v2.0.1//EN
X-WR-TIMEZONE:America/New_York
X-WR-CALNAME:Upcoming Auctions
BEGIN:VEVENT
UID:104718
DTSTAMP:20230722T190000
DTSTART:20230722T190000
DTEND:20230801T190000
SUMMARY:5437 Snow Owl Drive Estate Auction
LOCATION:5437 Snow Owl Drive\, Roanoke\, VA 24018\, US
DESCRIPTION:5437 Snow Owl Drive Estate Auction Bidding Opens - Saturday\,
  July 22nd at 7PM Bidding Closes - Tuesday\, August 1st begin
 ning at 7PM Preview/Open-House - Tuesday\, August 1st from 2P
 M till 5:30PM at 5437 Snow Owl Drive Roanoke\, VA 24018 Manda
 tory Removal/Pickup - Wednesday\, August 2nd from 10AM till 5
 :30PM Please Note: All items are sold as-is and where-is wit
 h no warranty expressed or implied. There's a 15% buyer prem
 ium that applies to all purchases\, as does VA sales tax. Rec
 eive a 3% discount off the premium by paying with cash or go
 od check. Example: $100 item will be $112 + tax if paid in c
 ash/check.  ALL ITEMS ARE LOCATED AT 5437 Snow Owl Drive in
  Roanoke. If items are not picked up on the designated remov
 al date\, your card will be charged for your items and they w
 ill be considered abandoned. We politely ask that if you can
 't make the pick up please refrain from bidding. 
URL:https://www.luckydogauction.com/auctions/detail/bw104718
SEQUENCE:1
END:VEVENT
END:VCALENDAR