BEGIN:VCALENDAR
VERSION:2.0
PRODID:-//ExpressionEngine Easy iCalendar plugin//NONSGML v2.0.1//EN
X-WR-TIMEZONE:America/New_York
X-WR-CALNAME:Upcoming Auctions
BEGIN:VEVENT
UID:105010
DTSTAMP:20230811T190000
DTSTART:20230811T190000
DTEND:20230830T190000
SUMMARY:Smith Estate Coin Auction
LOCATION:770 Cornell Rd\, Rocky Mount\, VA 24151\, US
DESCRIPTION:Smith Estate Coin AuctionÂ  Bidding Opens - Friday\, August 1
 1th at 7PM Bidding Closes - Wednesday\, August 30th beginning
  at 7PM Open-House/Preview - Wednesday\, August 30th from NOO
 N till 5PM Removal/Pickup - Thursday\, August 31st from 10AM 
 till 5PMÂ  Please Note: All items are sold as-is and where-i
 s with no warranty expressed or implied. 15% buyer premium a
 pplies to all purchases\, as does VA sales tax. Receive a 3% 
 discount off the premium by paying with cash or good check.Â
  
URL:https://www.luckydogauction.com/auctions/detail/bw105010
SEQUENCE:1
END:VEVENT
END:VCALENDAR