BEGIN:VCALENDAR
VERSION:2.0
PRODID:-//ExpressionEngine Easy iCalendar plugin//NONSGML v2.0.1//EN
X-WR-TIMEZONE:America/New_York
X-WR-CALNAME:Upcoming Auctions
BEGIN:VEVENT
UID:105015
DTSTAMP:20230925T190000
DTSTART:20230925T190000
DTEND:20231005T190000
SUMMARY:2nd Annual Fall Equipment Auction
LOCATION:770 Cornell Road\, Rocky Mount\, VA 24151\, US
DESCRIPTION:2nd Annual Fall Equipment Auction  Bidding Opens - Monday\, 
 September 25th at 7PM Bidding Closes - Thursday\, October 5th
  beginning at 7PM Preview/Open-House - Thursday\, October 5th
  from 10AM till 5:30PM - We highly encourage attending the p
 review. Please come inspect these items for yourself.  Remo
 val/Pickup - Friday\, October 6th from 10AM till 5PM and Satu
 rday\, October 7th from 9AM till NOON Please Note: All items 
 are sold as-is and where-is with no warranty expressed or im
 plied. Receive a 3% discount off the premium with cash or ch
 eck. 
URL:https://www.luckydogauction.com/auctions/detail/bw105015
SEQUENCE:1
END:VEVENT
END:VCALENDAR