BEGIN:VCALENDAR
VERSION:2.0
PRODID:-//ExpressionEngine Easy iCalendar plugin//NONSGML v2.0.1//EN
X-WR-TIMEZONE:America/New_York
X-WR-CALNAME:Upcoming Auctions
BEGIN:VEVENT
UID:105431
DTSTAMP:20230803T190000
DTSTART:20230803T190000
DTEND:20230813T190000
SUMMARY:4719 Glen Ivy Circle Estate Auction
LOCATION:770 Cornell Rd\, Rocky Mount\, VA 24151\, US
DESCRIPTION:4719 Glen Ivy Circle Estate Auction Bidding Opens - Thursday
 \, August 3rd at 7PM Bidding Closes - Sunday\, August 13th beg
 inning at 7PM Preview/Open-House - Thursday\, August 10th fro
 m 2PM till 5:30PM at 770 Cornell Rd Rocky Mount\, VA 24151Â  
 Removal/Pickup - Monday\, August 14th from 10AM until 5:30PMÂ
   Please Note: All items are sold as-is and where-is with no
  warranty expressed or implied. A 15% buyer premium applies 
 to all purchases as does VA sales tax. Receive a 3% discount
  off the premium by paying with cash or check.Â 
URL:https://www.luckydogauction.com/auctions/detail/bw105431
SEQUENCE:1
END:VEVENT
END:VCALENDAR