BEGIN:VCALENDAR
VERSION:2.0
PRODID:-//ExpressionEngine Easy iCalendar plugin//NONSGML v2.0.1//EN
X-WR-TIMEZONE:America/New_York
X-WR-CALNAME:Upcoming Auctions
BEGIN:VEVENT
UID:105820
DTSTAMP:20230811T190000
DTSTART:20230811T190000
DTEND:20230817T190000
SUMMARY:August Liquidation Auction
LOCATION:770 Cornell Rd\, Rocky Mount\, VA 24151\, US
DESCRIPTION:August Liquidation Auction Bidding Opens - Friday\, August 11
 th at 7PM Bidding Closes - Thursday\, August 17th beginning a
 t 7PM Preview/Open-House - Thursday\, August 17th from 2PM ti
 ll 5:30PM Pickup/Removal - Friday\, August 18th from 10AM til
 l 5:30PM Please Note: All items are sold as-is and where-is 
 with no warranty expressed or implied. A 15% buyer premium a
 pplies to all purchases as does VA sales tax. Receive a 3% d
 iscount off the premium by paying with cash or check. Firear
 m Transfer Fee: $15 - We are a Federal Firearms Dealer. All 
 local\, state\, and federal laws apply. 
URL:https://www.luckydogauction.com/auctions/detail/bw105820
SEQUENCE:1
END:VEVENT
END:VCALENDAR