BEGIN:VCALENDAR
VERSION:2.0
PRODID:-//ExpressionEngine Easy iCalendar plugin//NONSGML v2.0.1//EN
X-WR-TIMEZONE:America/New_York
X-WR-CALNAME:Upcoming Auctions
BEGIN:VEVENT
UID:106350
DTSTAMP:20231205T190000
DTSTART:20231205T190000
DTEND:20231214T190000
SUMMARY:Winter Equipment Auction
LOCATION:770 Cornell Road\, Rocky Mount\, VA 24151\, US
DESCRIPTION:Winter Equipment Auction  Bidding Opens - Tuesday\, December
  5th at 7PM  Bidding Closes - Thursday\, December 14th begin
 ning at 7PM Preview/Open-House - Wednesday\, December 13th an
 d Thursday\, December 14th from 10AM till 5:30PM  Pickup/Rem
 oval - Friday\, December 15th and Monday\, December 18th from 
 10AM till 5:30PM  Please Note: All items are sold as-is and
  where-is with no warranty expressed or implied. Preview is 
 highly encouraged. A 15% buyer premium applies to all purcha
 ses as does VA sales tax. Receive a 3% discount off the prem
 ium by paying with cash or check. We reserve the right to ho
 ld titles and high-valued items until payment clears. 
URL:https://www.luckydogauction.com/auctions/detail/bw106350
SEQUENCE:1
END:VEVENT
END:VCALENDAR