BEGIN:VCALENDAR
VERSION:2.0
PRODID:-//ExpressionEngine Easy iCalendar plugin//NONSGML v2.0.1//EN
X-WR-TIMEZONE:America/New_York
X-WR-CALNAME:Upcoming Auctions
BEGIN:VEVENT
UID:106352
DTSTAMP:20240325T190000
DTSTART:20240325T190000
DTEND:20240408T190000
SUMMARY:3rd Annual Spring Equipment Auction
LOCATION:770 Cornell Road\, Rocky Mount\, VA 24151\, US
DESCRIPTION:3rd Annual Spring Equipment Auction  Our lot is PACKED! Ple
 ase come preview at the times set aside below! At pickup/rem
 oval\, please be patient with us! Our lot is small and extrem
 ely full!  Bidding Opens - Monday\, March 25th at 7PM Biddin
 g Closes - Monday\, April 8th beginning at 7PM Preview/Open-H
 ouse - Friday\, April 5th from 10AM until 5:30PM and Monday\,
  April 8th from 10AM until 5:30PM at 770 Cornell Rd Rocky M
 ount\, VA 24151 Removal/Pickup - 4-DAY PICKUP: Tuesday (April
  9th) Wednesday (April 10th) Thursday (April 11th) Friday (A
 pril 12th) from 10AM until 5PM    Please Note: All items a
 re sold as-is and where-is with no warranty expressed or imp
 lied. Preview is highly encouraged. A 15% buyer premium appl
 ies to all purchases\, as does VA sales tax. Receive a 3% dis
 count off the premium by paying with cash\, check\, or bank wi
 re. Auction staff reserves the right to hold items/titles un
 til payment clears.
URL:https://www.luckydogauction.com/auctions/detail/bw106352
SEQUENCE:1
END:VEVENT
END:VCALENDAR