BEGIN:VCALENDAR
VERSION:2.0
PRODID:-//ExpressionEngine Easy iCalendar plugin//NONSGML v2.0.1//EN
X-WR-TIMEZONE:America/New_York
X-WR-CALNAME:Upcoming Auctions
BEGIN:VEVENT
UID:106354
DTSTAMP:20240706T190000
DTSTART:20240706T190000
DTEND:20240721T180000
SUMMARY:Summer Sizzler Equipment Auction
LOCATION:770 Cornell Road\, Rocky Mount\, VA 24151\, US
DESCRIPTION:Summer Sizzler Equipment Auction Bidding Opens - Saturday\, J
 uly 6th at 7PM Bidding Closes - Sunday\, July 21st beginning 
 at 6PM Preview/Open-House - Friday\, July 19th from 10AM unti
 l 5PM & Saturday\, July 20th from 9AM until NOON - We are ope
 n Monday through Friday from 9AM until 5PM for inspection BU
 T keys will only be available on Friday the 19th and Saturda
 y the 20th.   Pickup/Removal - Monday\, July 22nd through F
 riday\, July 26th from 10AM until 5PM. Our lot is small and v
 ery full. Please be patient while we get you checked out and
  loaded. Be sure to take advantage of the 5-Day pickup.  Pl
 ease Note: All items are sold as-is and where-is with no war
 ranty expressed or implied. There is a 15% buyer premium tha
 t applies to all purchases\, as does Virginia State Sales Tax
 . Receive a 3% discount off the premium by paying with cash 
 or check. If you are sales tax exempt please bring your ST-1
 8 or ST-10\, we can't remove sales tax without one of these c
 ompleted forms. Titles will not be issued on the day of the 
 pickup\, they will be mailed USPS Priority Mail after payment
  clears (No Exceptions). 
URL:https://www.luckydogauction.com/auctions/detail/bw106354
SEQUENCE:1
END:VEVENT
END:VCALENDAR