BEGIN:VCALENDAR
VERSION:2.0
PRODID:-//ExpressionEngine Easy iCalendar plugin//NONSGML v2.0.1//EN
X-WR-TIMEZONE:America/New_York
X-WR-CALNAME:Upcoming Auctions
BEGIN:VEVENT
UID:107513
DTSTAMP:20230908T190000
DTSTART:20230908T190000
DTEND:20230914T190000
SUMMARY:September Treasure Auction
LOCATION:770 Cornell Road\, Rocky Mount\, VA 24151\, US
DESCRIPTION:September Treasure Auction  Bidding Opens - Friday\, Septem
 ber 8th at 7PM Bidding Closes - Thursday\, September 14th at
  7PM Preview/Open House - Thursday\, September 14th from 2-5
 :30PM Removal/Pickup - Friday\, September 15th from 10AM til
 l 5:30PM Please Note:  All Items are sold as-is and where-
 is with no warranty expressed or implied. Receive a 3% disco
 unt off the premium with cash or check. 
URL:https://www.luckydogauction.com/auctions/detail/bw107513
SEQUENCE:1
END:VEVENT
END:VCALENDAR