BEGIN:VCALENDAR
VERSION:2.0
PRODID:-//ExpressionEngine Easy iCalendar plugin//NONSGML v2.0.1//EN
X-WR-TIMEZONE:America/New_York
X-WR-CALNAME:Upcoming Auctions
BEGIN:VEVENT
UID:108684
DTSTAMP:20231011T170000
DTSTART:20231011T170000
DTEND:20231023T190000
SUMMARY:October Sportsman's Auction
LOCATION:770 Cornell Road\, Rocky Mount\, VA 24151\, US
DESCRIPTION:October Sportsman's Auction Bidding Opens - Wednesday\, Octob
 er 11th at 7PM Bidding Closes - Monday\, October 23rd beginni
 ng at 7PM Preview - Monday\, October 23rd from 12-5:30PM Pick
  Up - Tuesday\, October 24th from 10AM - 5:30PM Please Note:Â
   All items are sold as-is and where-is with no warranty exp
 ressed or implied. Receive a 3% discount off the premium wit
 h cash or check.Â  Please Note: A 15% buyer premium applies 
 to all purchases\, as does VA sales tax. Receive a 3% discoun
 t off the premium by paying with cash or check. There is a $
 15 transfer fee (3 Guns or Less). $20 for 4 or more. Lucky D
 og Auction is a licensed FFL dealer. All local\, state and fe
 deral laws apply.
URL:https://www.luckydogauction.com/auctions/detail/bw108684
SEQUENCE:1
END:VEVENT
END:VCALENDAR