BEGIN:VCALENDAR
VERSION:2.0
PRODID:-//ExpressionEngine Easy iCalendar plugin//NONSGML v2.0.1//EN
X-WR-TIMEZONE:America/New_York
X-WR-CALNAME:Upcoming Auctions
BEGIN:VEVENT
UID:108940
DTSTAMP:20231012T190000
DTSTART:20231012T190000
DTEND:20231019T190000
SUMMARY:October Treasure Sale - Part 2
LOCATION:770 Cornell Road\, Rocky Mount\, VA 24151\, US
DESCRIPTION:October Treasure Auction Part II Bidding Opens -Thursday\, Oc
 tober 12th at 7PM Bidding Closes - Thursday\, October 19th be
 ginning at 7PM Preview/Open House - Thursday\, October 19th f
 rom 2 till 5:30PM Pick Up/Removal - Friday\, October 20th fro
 m 10AM - 5:30PM Please Note: All items are sold as-is and wh
 ere-is with no warranty expressed or implied. We highly enco
 urage coming to preview to inspect items for yourself. 15% b
 uyer premium applies to all purchases\, as does VA sales tax 
 (5.3%). Receive a 3% discount off the premium by paying with
  cash or check. 
URL:https://www.luckydogauction.com/auctions/detail/bw108940
SEQUENCE:1
END:VEVENT
END:VCALENDAR