BEGIN:VCALENDAR
VERSION:2.0
PRODID:-//ExpressionEngine Easy iCalendar plugin//NONSGML v2.0.1//EN
X-WR-TIMEZONE:America/New_York
X-WR-CALNAME:Upcoming Auctions
BEGIN:VEVENT
UID:112212
DTSTAMP:20231205T190000
DTSTART:20231205T190000
DTEND:20231212T190000
SUMMARY:December Gun Auction
LOCATION:770 Cornell Rd\, Rocky Mount\, VA 24151\, US
DESCRIPTION:December Gun Auction - Includes Firearms\, Accessories\, Gun C
 ases\, Knives\, and other Sporting Equipment! Bidding Opens - 
 Tuesday\, December 5th at 7PM Bidding Closes  - Tuesday\, Dec
 ember 12th beginning at 7PM Preview/Open-House - Tuesday\, De
 cember 12 from NOON till 5PM Pickup/Removal - Wednesday\, Dec
 ember 13th from 10AM until 5:30PM Please Note: All items are
  sold as-is and where-is with no warranty expressed or impli
 ed. 15% buyer premium applies to all purchases as does VA sa
 les tax. Receive a 3% discount off the premium by paying wit
 h cash or check. Lucky Dog Auction is a licensed Federal Fir
 earms dealer. All local\, state\, and federal laws apply. Ther
 e is a $15 transfer fee (up to 3 firearms) and $20 for 4 or 
 more firearms. Example: If you purchase 3 firearms\, it will 
 be a $15 transfer fee. 
URL:https://www.luckydogauction.com/auctions/detail/bw112212
SEQUENCE:1
END:VEVENT
END:VCALENDAR