BEGIN:VCALENDAR
VERSION:2.0
PRODID:-//ExpressionEngine Easy iCalendar plugin//NONSGML v2.0.1//EN
X-WR-TIMEZONE:America/New_York
X-WR-CALNAME:Upcoming Auctions
BEGIN:VEVENT
UID:112271
DTSTAMP:20231208T190000
DTSTART:20231208T190000
DTEND:20231218T190000
SUMMARY:1805 Boones Mill Road Downsizing Auction
LOCATION:770 Cornell Road\, Rocky Mount\, VA 24151\, US
DESCRIPTION:1805 Boones Mill Road Downsizing Auction Bidding Opens - Fri
 day\, December 8th at 7PM Bidding Closes - Monday\, December 1
 8th beginning at 7PM Preview/Open-House - Monday\, December 1
 8th from 2PM till 5:30PM at Lucky Dog Auction & Realty Inc (
 770 Cornell Rd Rocky Mount\, VA 24151) Pickup/Removal - Tuesd
 ay\, December 19th from 10AM till 5:30PM  Please Note: All i
 tems are sold as-is and where-is with no warranty expressed 
 or implied. A 15% buyer premium applies to all purchases\, as
  does VA sales tax. Receive a 3% discount off the premium bu
 y paying with cash or check. Preview/Inspection is highly en
 couraged. All sales are final. 
URL:https://www.luckydogauction.com/auctions/detail/bw112271
SEQUENCE:1
END:VEVENT
END:VCALENDAR