BEGIN:VCALENDAR
VERSION:2.0
PRODID:-//ExpressionEngine Easy iCalendar plugin//NONSGML v2.0.1//EN
X-WR-TIMEZONE:America/New_York
X-WR-CALNAME:Upcoming Auctions
BEGIN:VEVENT
UID:113034
DTSTAMP:20231224T000000
DTSTART:20231224T000000
DTEND:20240102T190000
SUMMARY:Bueller Estate Coin Auction
LOCATION:770 Cornell Rd\, Rocky Mount\, VA 24151\, US
DESCRIPTION:Bueller Estate Coin Auction  Fantastic collection of fine c
 oins\, silver and gold. Numerous collectibles in this sale. G
 reat opportunity to invest in silver and hedge inflation. NO
  SALES TAX ON SILVER\, GOLD\, US LEGAL TENDER. Everything sta
 rts at $1 and will be sold to the highest bidder(s).  Biddi
 ng Opens - Sunday\, December 24th at NOON Bidding Closes - Tu
 esday\, January 2nd at 7PM Preview/Open-House - Tuesday\, Janu
 ary 2nd from NOON till 5PM Pickup/Removal - Wednesday\, Janua
 ry 3rd from 10AM till 5:30PM Please Note: All items are sold
  as-is and where-is. There is a 15% buyer premium that appli
 es to all purchases. Receive a 3% discount by paying with ca
 sh or check.   
URL:https://www.luckydogauction.com/auctions/detail/bw113034
SEQUENCE:1
END:VEVENT
END:VCALENDAR