BEGIN:VCALENDAR
VERSION:2.0
PRODID:-//ExpressionEngine Easy iCalendar plugin//NONSGML v2.0.1//EN
X-WR-TIMEZONE:America/New_York
X-WR-CALNAME:Upcoming Auctions
BEGIN:VEVENT
UID:113475
DTSTAMP:20240126T190000
DTSTART:20240126T190000
DTEND:20240207T190000
SUMMARY:Winter Sportsman's Auction
LOCATION:{location}
DESCRIPTION:Winter Sportsman's Auction  Bidding Opens - Friday\, January
  26th at 7PM Bidding Closes - Wednesday\, February 7th beginn
 ing at 7PM Preview/Open-House - Wednesday\, February 7th from
  10AM till 5PM Pickup/Removal - Thursday\, February 8th from 
 10AM till 5:30PM Please Note: Lucky Dog Auction is a license
 d FFL dealer. All federal\, state\, and local laws apply. $15 
 transfer fee for 3 guns or less. $20 transfer fee for 4 or m
 ore. There is a 15% buyer premium that applies to all purcha
 ses\, as does VA sales tax. Receive a 3% discount off the pre
 mium by paying with cash or check.   
URL:https://www.luckydogauction.com/auctions/detail/bw113475
SEQUENCE:1
END:VEVENT
END:VCALENDAR