BEGIN:VCALENDAR
VERSION:2.0
PRODID:-//ExpressionEngine Easy iCalendar plugin//NONSGML v2.0.1//EN
X-WR-TIMEZONE:America/New_York
X-WR-CALNAME:Upcoming Auctions
BEGIN:VEVENT
UID:113646
DTSTAMP:20240125T190000
DTSTART:20240125T190000
DTEND:20240205T190000
SUMMARY:January Coin Auction
LOCATION:770 Cornell Road\, Rocky Mount \, VA 24151\, US
DESCRIPTION:January Coin Auction  Bidding Opens -  Thursday\, January 
 25th at 7PM Preview - Monday\, February 5th from 2-5:00PM Bi
 dding Closes -  Monday\, February 5th beginning at 7PM Picku
 p/Removal - Tuesday\, February 6th from 10-5:30PM Please Not
 e:  All items are sold as-is and where-is with no warranty 
 expressed or implied. A 15% buyer premium applies to all pur
 chases\, as does VA sales tax. Receive a 3% discount off the 
 premium by paying with cash or check. Preview/Inspection is 
 highly encouraged. All sales are final. 
URL:https://www.luckydogauction.com/auctions/detail/bw113646
SEQUENCE:1
END:VEVENT
END:VCALENDAR