BEGIN:VCALENDAR
VERSION:2.0
PRODID:-//ExpressionEngine Easy iCalendar plugin//NONSGML v2.0.1//EN
X-WR-TIMEZONE:America/New_York
X-WR-CALNAME:Upcoming Auctions
BEGIN:VEVENT
UID:113702
DTSTAMP:20240123T190000
DTSTART:20240123T190000
DTEND:20240130T190000
SUMMARY:January Downsizing Auction Part II
LOCATION:770 Cornell Road\, Rocky Mount\, VA 24151\, US
DESCRIPTION:January Downsizing Auction Part II Bidding Opens - Tuesday\, 
 January 23rd at 7PM Bidding Closes - Tuesday\, January 30th 
 beginning at 7PM Preview - Tuesday\, January 30th 2-5:30PM Pi
 ckup/Removal -  Wednesday\, January 31st 10-5:30PM Please N
 ote:  All items are sold "as-is" and "where-is" with no war
 ranty expressed or implied. A 15% buyers premium applies to 
 all purchases\, as does VA sales tax. Receive a 3% discount o
 ff the premium by paying with cash or check. Preview/Inspect
 ion is highly encouraged. All sales are final. 
URL:https://www.luckydogauction.com/auctions/detail/bw113702
SEQUENCE:1
END:VEVENT
END:VCALENDAR