BEGIN:VCALENDAR
VERSION:2.0
PRODID:-//ExpressionEngine Easy iCalendar plugin//NONSGML v2.0.1//EN
X-WR-TIMEZONE:America/New_York
X-WR-CALNAME:Upcoming Auctions
BEGIN:VEVENT
UID:114435
DTSTAMP:20240207T190000
DTSTART:20240207T190000
DTEND:20240215T190000
SUMMARY:Natural Bridge Estate Auction
LOCATION:770 Cornell Rd\, Rocky Mount\, VA 24151\, US
DESCRIPTION:Natural Bridge Estate Auction Bidding Opens - Wednesday\, Feb
 ruary 5th at 7PM Bidding Closes - Thursday\, February 15th at
  7PM Preview/Open-House - Thursday\, February 15th from 2PM 
 till 5:30PM  Pickup/Removal - Friday\, February 16th from 10
 AM till 5:30PM  Location:  Lucky Dog Auction & Realty - 77
 0 Cornell Rd Rocky Mount\, VA 24151 Please Note: All items ar
 e sold as-is and where-is with no warranty expressed or impl
 ied. All bids and Sales are final. Preview is highly encoura
 ged. There is a 15% buyer premium that applies to all purcha
 ses\, as does VA sales tax. Receive a 3% discount off the pre
 mium by paying with cash or check. 
URL:https://www.luckydogauction.com/auctions/detail/bw114435
SEQUENCE:1
END:VEVENT
END:VCALENDAR