BEGIN:VCALENDAR
VERSION:2.0
PRODID:-//ExpressionEngine Easy iCalendar plugin//NONSGML v2.0.1//EN
X-WR-TIMEZONE:America/New_York
X-WR-CALNAME:Upcoming Auctions
BEGIN:VEVENT
UID:114481
DTSTAMP:20240218T190000
DTSTART:20240218T190000
DTEND:20240307T190000
SUMMARY:Goodview Estate Auction
LOCATION:220 Crestbourne Dr\, Goodview\, VA 24095\, US
DESCRIPTION:Goodview Estate Auction  Bidding Opens - Sunday\, February 1
 8th at 7PM Bidding Closes - Thursday\, March 7th beginning at
  7PM Preview/Open-House - Thursday\, March 7th onsite -220 Cr
 estbourne Dr Goodview\, VA 24095. 10am-6pm - Site is Gated an
 d Locked - Preview ONLY during specified day/time. Thursday\,
  March 7th 10am-6pm. Pickup/Removal - Friday\, March 8th from
  9AM until 6PM and Saturday\, March 9th from 9AM until 6PM. P
 ay and Pickup onsite at 220 Crestbourne Dr. Goodview\, VA 240
 95. These are the only available pickup times. Auction loca
 tion is fenced and locked. 
URL:https://www.luckydogauction.com/auctions/detail/bw114481
SEQUENCE:1
END:VEVENT
END:VCALENDAR