BEGIN:VCALENDAR
VERSION:2.0
PRODID:-//ExpressionEngine Easy iCalendar plugin//NONSGML v2.0.1//EN
X-WR-TIMEZONE:America/New_York
X-WR-CALNAME:Upcoming Auctions
BEGIN:VEVENT
UID:114965
DTSTAMP:20240315T190000
DTSTART:20240315T190000
DTEND:20240325T190000
SUMMARY:March Firearms/Sportsmans Auction
LOCATION:770 Cornell Road\, Rocky Mount \, VA 24151\, US
DESCRIPTION:March Firearms/Sportsman's Auction Bidding Opens - Friday\, M
 arch 15th at 7PM Bidding Closes - Monday\, March 25th at 7PM 
 Preview/Open House - Monday\, March 25th at 1PM- 5:30PM Pick-
 up - Tuesday\, March 26th at 10AM - 5:30PM Please Note:  Al
 l items are sold as-is and where-is with no warranty express
 ed or implied. Preview is highly encouraged. A 15% buyer pre
 mium applies to all purchases\, as does VA sales tax. Receive
  a 3% discount off the buyer's premium by paying with cash o
 r check. Lucky Dog Auction is a licensed FFL dealer. All fed
 eral\, state\, and local laws apply. There is a $15 transfer f
 ee for 3 guns or less. $20 transfer fee for 4 or more. Backg
 round checks are conducted on the premises at time of paymen
 t. Please bring a valid id with your current address. Please
  bring a concealed weapons permit to purchase more than one 
 handgun at a time. If you do not have a concealed weapons pe
 rmit you may only purchase one handgun per 30 days. If you h
 ave renewed your drivers license 30 days must have passed s
 ince that renewal date to purchase a firearm. 
URL:https://www.luckydogauction.com/auctions/detail/bw114965
SEQUENCE:1
END:VEVENT
END:VCALENDAR