BEGIN:VCALENDAR
VERSION:2.0
PRODID:-//ExpressionEngine Easy iCalendar plugin//NONSGML v2.0.1//EN
X-WR-TIMEZONE:America/New_York
X-WR-CALNAME:Upcoming Auctions
BEGIN:VEVENT
UID:115160
DTSTAMP:20240223T190000
DTSTART:20240223T190000
DTEND:20240229T190000
SUMMARY:February Consignment Auction
LOCATION:770 Cornell Road\, Rocky Mount \, VA 24151\, US
DESCRIPTION:February Consignment Auction Bidding Opens - Friday\, Februar
 y 23rd at 7PM Bidding Closes - Thursday\, February 29th at 7P
 M Preview/Open-House - Thursday\, February 29th from 2PM til
 l 5:30PM  Pickup/Removal - Friday\, March 1st from 10AM till
  5:30PM  Location:  Lucky Dog Auction & Realty - 770 Corne
 ll Rd Rocky Mount\, VA 24151 Please Note: All items are sold 
 as-is and where-is with no warranty expressed or implied. Al
 l bids and Sales are final. Preview is highly encouraged. Th
 ere is a 15% buyer premium that applies to all purchases\, as
  does VA sales tax. Receive a 3% discount off the premium by
  paying with cash or check. 
URL:https://www.luckydogauction.com/auctions/detail/bw115160
SEQUENCE:1
END:VEVENT
END:VCALENDAR