BEGIN:VCALENDAR
VERSION:2.0
PRODID:-//ExpressionEngine Easy iCalendar plugin//NONSGML v2.0.1//EN
X-WR-TIMEZONE:America/New_York
X-WR-CALNAME:Upcoming Auctions
BEGIN:VEVENT
UID:115738
DTSTAMP:20240221T120000
DTSTART:20240221T120000
DTEND:20240226T190000
SUMMARY:Kupkakery Bakery Downsizing Auction
LOCATION:140 Franklin Street\, Rocky Mount\, VA 24151\, US
DESCRIPTION:Kupkakery Bakery Downsizing Auction  Bidding Opens - Wednes
 day\, February 21st at NOON Bidding Closes - Monday\, February
  26th beginning at 7PM  Preview/Open-House - Monday\, Februa
 ry 26th from 2PM till 5PM at 140 Franklin St Rocky Mount\, VA
  24151 Mandatory Removal/Pickup - Tuesday\, February 27th fro
 m 10AM till 5:30PM. Items are only available for pick up on 
 this date. Items not picked up will be considered abandoned 
 and will be forfeited to Lucky Dog Auction & Realty Inc.  L
 ocation: 140 Franklin St Rocky Mount\, VA 24151 Please Note: 
 All items are sold as-is and where-is with no warranty expre
 ssed or implied. The 15% buyer premium applies to all purcha
 ses\, as does VA sales tax. Receive a 3% discount off the pre
 mium by paying with cash or check.   
URL:https://www.luckydogauction.com/auctions/detail/bw115738
SEQUENCE:1
END:VEVENT
END:VCALENDAR