BEGIN:VCALENDAR
VERSION:2.0
PRODID:-//ExpressionEngine Easy iCalendar plugin//NONSGML v2.0.1//EN
X-WR-TIMEZONE:America/New_York
X-WR-CALNAME:Upcoming Auctions
BEGIN:VEVENT
UID:116002
DTSTAMP:20240304T190000
DTSTART:20240304T190000
DTEND:20240318T190000
SUMMARY:Spring Coin & Currency Auction
LOCATION:{location}
DESCRIPTION:Spring Coin & Currency Auction  Bidding Opens - Monday\, Mar
 ch 4th @ 7PM Bidding Closes - Monday\, March 18th beginning @
  7PM Preview/Open-House - Monday\, March 18th from 2PM until 
 5PM  Pickup/Removal - Tuesday\, March 19th from 10AM until 5
 PM Please Note: All items are sold as-is and where-is with n
 o warranty expressed or implied. A 15% buyer premium applies
  to all purchases. Receive a 3% discount off the premium by 
 paying with cash or check. No sales tax on Gold\, Silver\, US 
 Coins and Currency. 
URL:https://www.luckydogauction.com/auctions/detail/bw116002
SEQUENCE:1
END:VEVENT
END:VCALENDAR