BEGIN:VCALENDAR
VERSION:2.0
PRODID:-//ExpressionEngine Easy iCalendar plugin//NONSGML v2.0.1//EN
X-WR-TIMEZONE:America/New_York
X-WR-CALNAME:Upcoming Auctions
BEGIN:VEVENT
UID:116244
DTSTAMP:20240322T190000
DTSTART:20240322T190000
DTEND:20240328T190000
SUMMARY:March Consignment Auction
LOCATION:770 Cornell Rd\, Rocky Mount\, VA 24151\, US
DESCRIPTION:March Consignment Auction Bidding Opens - Friday\, March 22nd
  at 7PM Bidding Closes - Thursday\, March 28th at 7PM Previe
 w/Open-House - Thursday\, March 28th from 2PM till 5:30PM  
 Pickup/Removal - Friday\, March 29th from 10AM till 5:30PM  
 Location:  Lucky Dog Auction & Realty - 770 Cornell Rd Rock
 y Mount\, VA 24151 Please Note: All items are sold as-is and 
 where-is with no warranty expressed or implied. All bids and
  Sales are final. Preview is highly encouraged. There is a 1
 5% buyer premium that applies to all purchases\, as does VA s
 ales tax. Receive a 3% discount off the premium by paying wi
 th cash or check. 
URL:https://www.luckydogauction.com/auctions/detail/bw116244
SEQUENCE:1
END:VEVENT
END:VCALENDAR