BEGIN:VCALENDAR
VERSION:2.0
PRODID:-//ExpressionEngine Easy iCalendar plugin//NONSGML v2.0.1//EN
X-WR-TIMEZONE:America/New_York
X-WR-CALNAME:Upcoming Auctions
BEGIN:VEVENT
UID:116667
DTSTAMP:20240323T190000
DTSTART:20240323T190000
DTEND:20240404T190000
SUMMARY:Perfectly Picked Liquidation Auction
LOCATION:510 Franklin St\, Rocky Mount\, VA 24151\, US
DESCRIPTION:Perfectly Picked Liquidation Auction  Bidding Opens - Satur
 day\, March 23rd at 7PM Bidding Closes- Thursday\, April 4th b
 eginning at 7PM Preview - Thursday\, April 4th from 2PM-5:30P
 M - 510 Franklin St Rocky Mount\, VA 24151 (Basement) Pick-Up
 /Removal - Friday\, April 5th from 10AM until 5:30PM - 510 Fr
 anklin St Rocky Mount\, VA 24151 (Basement)  Location - 510 
 Franklin St Rocky Mount\, VA 24151 (Basement) Please Note: Th
 e Pickup Date and Time is mandatory. We are unable to access
  the property after this date. Any items not picked up will 
 be forfeited to Lucky Dog Auction & Realty and user will be 
 subject to their account being blocked. All items are sold "
 as-is" and "where-is" with no warranty expressed or implied.
  All bids and Sales are final. Preview is highly encouraged.
  There is a 15% buyer premium that applies to all purchases\,
  as does VA sales tax. Receive a 3% discount off the premium
  by paying with cash or check. 
URL:https://www.luckydogauction.com/auctions/detail/bw116667
SEQUENCE:1
END:VEVENT
END:VCALENDAR