BEGIN:VCALENDAR
VERSION:2.0
PRODID:-//ExpressionEngine Easy iCalendar plugin//NONSGML v2.0.1//EN
X-WR-TIMEZONE:America/New_York
X-WR-CALNAME:Upcoming Auctions
BEGIN:VEVENT
UID:117685
DTSTAMP:20240419T190000
DTSTART:20240419T190000
DTEND:20240425T190000
SUMMARY:April Consignment Auction
LOCATION:770 Cornell Rd\, Rocky Mount\, VA 24151\, US
DESCRIPTION:April Consignment Auction Bidding Opens:  Friday\, April 19t
 h at 7PM Preview:  Thursday\, April 25th at 2pm-5:30pm Biddi
 ng Closes:  Thursday\, April 25th beginning at 7PM Pickup/Re
 moval:  Friday\, April 26th from 10AM-5:30PM Please Note:  
 All items are sold as-is and where-is with no warranty expre
 ssed or implied. All bids and sales are final. Preview is hi
 ghly encouraged. there is a 15% buyer premium that applies t
 o all purchases\, as does VA sales tax. Receive a 3% discount
  off the premium by paying with cash or check.
URL:https://www.luckydogauction.com/auctions/detail/bw117685
SEQUENCE:1
END:VEVENT
END:VCALENDAR