BEGIN:VCALENDAR
VERSION:2.0
PRODID:-//ExpressionEngine Easy iCalendar plugin//NONSGML v2.0.1//EN
X-WR-TIMEZONE:America/New_York
X-WR-CALNAME:Upcoming Auctions
BEGIN:VEVENT
UID:117902
DTSTAMP:20240429T190000
DTSTART:20240429T190000
DTEND:20240513T190000
SUMMARY:May Sportsman's Auction
LOCATION:770 Cornell Road\, Rocky Mount \, VA 24151\, US
DESCRIPTION:May Sportsman's Auction Bidding Opens - Monday\, April 29th a
 t 7PM Bidding Closes - Monday\, May 13th beginning at 7PM Pr
 eview - Monday\, May 13th from 2PM until 5PM Pickup - Tuesday
 \, May 14th from 10AM until 5:30PM Please Note: All items are
  sold as-is and where-is with no warranty expressed or impli
 ed. Lucky Dog Auction is a licensed FFL dealer. All local\, s
 tate\, and federal laws apply. There is 15% buyer premium on 
 all items and Virginia State Sales Tax (5.3%) applies to all
  purchases. Receive a 3% discount off the premium by paying 
 with cash or check. There is a $15 transfer fee for up to 3 
 firearms. 4 or more is a $20 transfer fee.  Background chec
 ks are conducted on the premises at time of payment. Please 
 bring a valid id with your current address. Please bring a c
 oncealed weapons permit to purchase more than one handgun at
  a time. If you do not have a concealed weapons permit you m
 ay only purchase one handgun per 30 days. If you have renewe
 d your drivers license 30 days must have passed since that 
 renewal date to purchase a firearm. 
URL:https://www.luckydogauction.com/auctions/detail/bw117902
SEQUENCE:1
END:VEVENT
END:VCALENDAR