BEGIN:VCALENDAR
VERSION:2.0
PRODID:-//ExpressionEngine Easy iCalendar plugin//NONSGML v2.0.1//EN
X-WR-TIMEZONE:America/New_York
X-WR-CALNAME:Upcoming Auctions
BEGIN:VEVENT
UID:117903
DTSTAMP:20240404T190000
DTSTART:20240404T190000
DTEND:20240412T190000
SUMMARY:627 Glenmore Dr Salem VA Estate Auction
LOCATION:627 Glenmore Drive\, Salem\, VA 24153\, US
DESCRIPTION:627 Glenmore Dr Salem VA Estate Auction Please Note: This a
 uction preview and removal will be at 627 Glenmore Dr Salem\,
  VA 24153. Bidding Opens - Thursday\, April 4th at 7PM Biddin
 g Closes - Friday\, April 12th beginning at 7PM Preview/Open-
 House - Friday\, April 12th from 2PM until 5:00PM at 627 Glen
 more Dr Salem\, VA 24153 Pickup/Removal - Saturday\, April 13t
 h from 10AM until 4PM at 627 Glenmore Dr Salem\, VA 24153 (Pl
 ease Bring Help To Load) (This is the ONLY pickup date/time 
 available\, if you can't make it please refrain from bidding)
 .    Please Note: All items are sold as-is and where-is wi
 th no warranty expressed or implied. There is a 15% buyer pr
 emium that applies to all purchases\, as does VA sales tax. R
 eceive a 3% discount off the premium by paying with cash or 
 check. 
URL:https://www.luckydogauction.com/auctions/detail/bw117903
SEQUENCE:1
END:VEVENT
END:VCALENDAR