BEGIN:VCALENDAR
VERSION:2.0
PRODID:-//ExpressionEngine Easy iCalendar plugin//NONSGML v2.0.1//EN
X-WR-TIMEZONE:America/New_York
X-WR-CALNAME:Upcoming Auctions
BEGIN:VEVENT
UID:119278
DTSTAMP:20240508T190000
DTSTART:20240508T190000
DTEND:20240516T190000
SUMMARY:May Consignment Auction - Part One
LOCATION:770 Cornell Road\, Rocky Mount \, VA 24151\, US
DESCRIPTION:May Consignment Auction - Part One  Bidding Opens - Wednesd
 ay\, May 8th at 7PM Bidding Closes - Thursday\, May 16th begin
 ning at 7PM Preview/Open-House - Thursday\, May 16th from 2PM
  till 5:30PM  Pickup/Removal - Friday\, May 17th from 10AM u
 ntil 5:30PM  Please Note: All items are sold as-is and wher
 e-is with no warranty expressed or implied. A 15% buyer prem
 ium applies to all purchases as does VA sales tax. Receive a
  3% discount off the premium by paying with cash or check. 
   
URL:https://www.luckydogauction.com/auctions/detail/bw119278
SEQUENCE:1
END:VEVENT
END:VCALENDAR