BEGIN:VCALENDAR
VERSION:2.0
PRODID:-//ExpressionEngine Easy iCalendar plugin//NONSGML v2.0.1//EN
X-WR-TIMEZONE:America/New_York
X-WR-CALNAME:Upcoming Auctions
BEGIN:VEVENT
UID:119282
DTSTAMP:20240619T190000
DTSTART:20240619T190000
DTEND:20240626T190000
SUMMARY:June Consignment Auction
LOCATION:{location}
DESCRIPTION:June Consignment AuctionÂ  Bidding Opens - Wednesday\, June 1
 9th at 7PM Bidding Closes - Wednesday\, June 26th beginning a
 t 7PM Preview/Open-House - Wednesday\, June 26th from 2PM unt
 il 5:30PM Pickup/Removal - Thursday\, June 27th from 10AM unt
 il 5:30PMÂ  Â  Please Note: All items are sold as-is and whe
 re-is with no warranty expressed or implied. A 15% buyer pre
 mium applies to all purchases as does VA sales tax. Receive 
 a 3% discount off the premium by paying with cash or check.Â
  
URL:https://www.luckydogauction.com/auctions/detail/bw119282
SEQUENCE:1
END:VEVENT
END:VCALENDAR