BEGIN:VCALENDAR
VERSION:2.0
PRODID:-//ExpressionEngine Easy iCalendar plugin//NONSGML v2.0.1//EN
X-WR-TIMEZONE:America/New_York
X-WR-CALNAME:Upcoming Auctions
BEGIN:VEVENT
UID:120827
DTSTAMP:20240531T190000
DTSTART:20240531T190000
DTEND:20240606T190000
SUMMARY:May Consignment Auction - Part 2
LOCATION:770 Cornell Road\, Rocky Mount \, VA 24151\, US
DESCRIPTION:May Consignment Auction - Part 2 Bidding Opens - Friday\, May
  31st at 7PM Bidding Closes - Thursday\, June 6th at 7PM Prev
 iew - Thursday\, June 6th from 2PM until 5:30PM  Pickup/Remo
 val - Friday\, June 7th from 10AM until 5:30PM  Please Note:
  All items are sold as-is and where-is no warranty expressed
  or implied. A 15% buyer premium applies to all purchases\, a
 s does VA sales tax. Receive a 3% discount off the premium b
 y paying with cash or check.   
URL:https://www.luckydogauction.com/auctions/detail/bw120827
SEQUENCE:1
END:VEVENT
END:VCALENDAR