BEGIN:VCALENDAR
VERSION:2.0
PRODID:-//ExpressionEngine Easy iCalendar plugin//NONSGML v2.0.1//EN
X-WR-TIMEZONE:America/New_York
X-WR-CALNAME:Upcoming Auctions
BEGIN:VEVENT
UID:122597
DTSTAMP:20240725T190000
DTSTART:20240725T190000
DTEND:20240801T190000
SUMMARY:July Consignment Auction
LOCATION:770 Cornell Rd\, Rocky Mount\, VA 24151\, US
DESCRIPTION:July Consignment Auction Bidding Opens - Thursday\, July 25th
  at 7PM Bidding Closes - Thursday\, August 1st beginning at 7
 PM Preview/Open House - Thursday\, August 1st from 2-5:30PM P
 ickup/Removal - Friday\, August 2nd from 10AM-5:30PM Please N
 ote:  All items are sold as-is and where-is with no warrant
 y expressed or implied. A 15% buyer premium applies to all p
 urchases as does VA sales tax. Receive a 3% discount off the
  premium by paying with cash or check.
URL:https://www.luckydogauction.com/auctions/detail/bw122597
SEQUENCE:1
END:VEVENT
END:VCALENDAR