BEGIN:VCALENDAR
VERSION:2.0
PRODID:-//ExpressionEngine Easy iCalendar plugin//NONSGML v2.0.1//EN
X-WR-TIMEZONE:America/New_York
X-WR-CALNAME:Upcoming Auctions
BEGIN:VEVENT
UID:122739
DTSTAMP:20240816T190000
DTSTART:20240816T190000
DTEND:20240827T190000
SUMMARY:Summer Sportsman's Auction
LOCATION:770 Cornell Road\, Rocky Mount \, VA 24151\, US
DESCRIPTION:Summer Sportsman's Auction Bidding Opens:  Friday\, August 
 16th at 7PM Bidding Closes:  Tuesday\, August 27th beginning
  at 7PM Preview/Open House:  Tuesday\, August 27th from 2PM
 -5:00PM Pickup/Removal: Wednesday\, August 28th from 10:00AM-
 5:30PM Location:  770 Cornell Road  Rocky Mount\, VA 24151 
 Please Note: All items are sold as-is and where-is with no w
 arranty expressed or implied. Lucky Dog Auction is a license
 d FFL dealer. All local\, state\, and federal laws apply. Ther
 e is 15% buyer premium on all items and Virginia State Sales
  Tax (5.3%) applies to all purchases. Receive a 3% discount 
 off the premium by paying with cash or check. There is a $15
  transfer fee for up to 3 firearms. 4 or more is a $20 trans
 fer fee.  Background checks are conducted on the premises a
 t time of payment. Please bring a valid id with your current
  address. Please bring a concealed weapons permit to purchas
 e more than one handgun at a time. If you do not have a conc
 ealed weapons permit you may only purchase one handgun per 3
 0 days. If you have renewed your drivers license 30 days mu
 st have passed since that renewal date to purchase a firearm
 . 
URL:https://www.luckydogauction.com/auctions/detail/bw122739
SEQUENCE:1
END:VEVENT
END:VCALENDAR