BEGIN:VCALENDAR
VERSION:2.0
PRODID:-//ExpressionEngine Easy iCalendar plugin//NONSGML v2.0.1//EN
X-WR-TIMEZONE:America/New_York
X-WR-CALNAME:Upcoming Auctions
BEGIN:VEVENT
UID:124871
DTSTAMP:20240828T190000
DTSTART:20240828T190000
DTEND:20240904T190000
SUMMARY:August Consignment Auction
LOCATION:{location}
DESCRIPTION:August Consignment Auction  Bidding Opens - Wednesday\, Augu
 st 28th at 7PM Bidding Closes - Wednesday\, September 4th beg
 inning at 7PM Preview/Open-House - Wednesday\, September 4th 
 from 2PM until 5:30PM Pickup/Removal - Thursday\, September 5
 th from 10AM until 5:30PM Please Note: All items are sold as
 -is and where-is with no warranty expressed or implied. Ther
 e is a 15% buyer premium that applies to all purchases\, as d
 oes VA sales tax. Receive a 3% discount off the premium by p
 aying with cash or check. 
URL:https://www.luckydogauction.com/auctions/detail/bw124871
SEQUENCE:1
END:VEVENT
END:VCALENDAR