BEGIN:VCALENDAR
VERSION:2.0
PRODID:-//ExpressionEngine Easy iCalendar plugin//NONSGML v2.0.1//EN
X-WR-TIMEZONE:America/New_York
X-WR-CALNAME:Upcoming Auctions
BEGIN:VEVENT
UID:125027
DTSTAMP:20240824T135500
DTSTART:20240824T135500
DTEND:20240829T190000
SUMMARY:5333 Oakland Blvd Estate Auction (Part 1)
LOCATION:5333 Oakland Blvd\, Hollins\, VA 24019\, US
DESCRIPTION:This is an onsite online auction that is located at 5333 Oak
 land Blvd Hollins\, VA 24019. Please Note: The ONLY pickup da
 y is Friday\, August 30th from 10AM until 5:30PM and you will
  need to bring help to load! If you are unable to make the p
 ickup\, we ask that you please not bid on this auction. Items
  not picked up on pickup day will be forfeited and your card
  will be charged\, no exceptions.  Bidding Opens - Saturday\,
  August 24th at 7PM Bidding Closes - Thursday\, August 29th b
 eginning at 7PM. The auction will close at 3 lots per minute
  with one minute extensions.  Preview/Open-House - Thursday
 \, August 29th from 2PM until 5:30PM at 5333 Oakland Blvd Hol
 lins\, VA 24019. Removal/Pickup - Friday\, August 30th from 10
 AM until 5:30PM - You will need to bring help to load and bo
 xes/totes for small items. Auction staff will not be able to
  assist in loading.  Please Note: All items are sold as-is 
 and where-is with no warranty expressed or implied. There is
  a 15% buyer premium that applies to all purchases. Receive 
 a 3% discount off the premium by paying with cash or check. 
 You are responsible for moving and loading your item(s). 
URL:https://www.luckydogauction.com/auctions/detail/bw125027
SEQUENCE:1
END:VEVENT
END:VCALENDAR