BEGIN:VCALENDAR
VERSION:2.0
PRODID:-//ExpressionEngine Easy iCalendar plugin//NONSGML v2.0.1//EN
X-WR-TIMEZONE:America/New_York
X-WR-CALNAME:Upcoming Auctions
BEGIN:VEVENT
UID:126791
DTSTAMP:20241014T190000
DTSTART:20241014T190000
DTEND:20241028T190000
SUMMARY:3rd Annual Fall Equipment Auction
LOCATION:770 Cornell Road\, Rocky Mount\, VA 24151\, US
DESCRIPTION:3rd Annual Fall Equipment Auction Bidding Opens - Monday\, Oc
 tober 14th at 7PM Bidding Closes - Monday\, October 28th begi
 nning at 7PM Open-House/Preview - Keys Available Friday\, Oct
 ober 25th from 10AM until 5PM and Saturday\, October 26th fro
 m 9AM until NOON - You are welcome to preview equipment duri
 ng our operating hours: Monday-Friday 9AM until 5PM October
  14 through October 28 but\, keys for running items will not 
 be available. Please Note: No previewing after hours when ga
 tes are closed.  Removal/Pickup - Tuesday (October 29th) - 
 Wednesday (October 30th) - Thursday (October 31st) - Friday 
 (November 1st) 10AM until 5PM at 770 Cornell Rd Rocky Mount\,
  VA 24151 Please Note: All items are sold as-is and where-is
  with no warranty expressed or implied. There is a 15% buyer
  premium that applies to all purchases\, as does VA sales tax
 . Receive a 3% discount off the premium by paying with cash 
 or good check (No Out Of State Personal Checks Will Be Accep
 ted - Out of State Buyers Need To Pay With Cash - Certified 
 Check or Wire Transfer). Please bring your Tax Exempt Forms 
 (ST-10 or ST-18) for sales tax to be removed. 
URL:https://www.luckydogauction.com/auctions/detail/bw126791
SEQUENCE:1
END:VEVENT
END:VCALENDAR