BEGIN:VCALENDAR
VERSION:2.0
PRODID:-//ExpressionEngine Easy iCalendar plugin//NONSGML v2.0.1//EN
X-WR-TIMEZONE:America/New_York
X-WR-CALNAME:Upcoming Auctions
BEGIN:VEVENT
UID:126900
DTSTAMP:20240917T190000
DTSTART:20240917T190000
DTEND:20240924T190000
SUMMARY:September Firearms Auction
LOCATION:{location}
DESCRIPTION:Bidding Opens - Tuesday\, September 17th at 7PM Bidding Close
 s - Tuesday\, September 24th beginning at 7PM Preview/Open-Ho
 use - Tuesday\, September 24th from 2PM until 5:30PM Pickup/R
 emoval - Wednesday\, September 25th and Thursday\, September 2
 6th from 9AM until 5:30PM Please Note: All items are sold a
 s-is and where-is with no warranty expressed or implied. The
 re is a 15% buyer premium that applies to all purchases\, as 
 does VA sales tax. Receive a 3% discount off the premium by 
 paying with cash or check. There is a $15 transfer fee for 3
  firearms or less\, 4 or more is $20. The transfer fee will b
 e added to your invoice at the end of the auction. Lucky Dog
  Auction is a licensed FFL dealer. All local\, state\, and fed
 eral laws apply. 
URL:https://www.luckydogauction.com/auctions/detail/bw126900
SEQUENCE:1
END:VEVENT
END:VCALENDAR