BEGIN:VCALENDAR
VERSION:2.0
PRODID:-//ExpressionEngine Easy iCalendar plugin//NONSGML v2.0.1//EN
X-WR-TIMEZONE:America/New_York
X-WR-CALNAME:Upcoming Auctions
BEGIN:VEVENT
UID:126928
DTSTAMP:20240917T190000
DTSTART:20240917T190000
DTEND:20240930T190000
SUMMARY:September Consignment Auction
LOCATION:{location}
DESCRIPTION:September Consignment Auction  Bidding Opens - Tuesday\, Sep
 tember 17th at 7PM Bidding Closes - Monday\, September 30th b
 eginning at 7PM - Auction closes at 4 lots per minute with 1
  minute extensions.  Preview/Open-House - Monday\, September
  30th from 2PM until 5:30PM Pickup/Removal - Tuesday\, Octobe
 r 1st from 10AM until 5:30PM  Please Note: All items are so
 ld as-is and where-is with no warranty expressed or implied.
  There is a 15% buyer premium that applies to all purchases.
  Receive a 3% discount off the premium by paying with cash o
 r check. VA sales tax applies. 
URL:https://www.luckydogauction.com/auctions/detail/bw126928
SEQUENCE:1
END:VEVENT
END:VCALENDAR