BEGIN:VCALENDAR
VERSION:2.0
PRODID:-//ExpressionEngine Easy iCalendar plugin//NONSGML v2.0.1//EN
X-WR-TIMEZONE:America/New_York
X-WR-CALNAME:Upcoming Auctions
BEGIN:VEVENT
UID:127701
DTSTAMP:20241008T190000
DTSTART:20241008T190000
DTEND:20241023T190000
SUMMARY:The Estate of Mildred H Shelton Online Auction
LOCATION:8235 Old Franklin Turnpike\, Glade Hill\, VA 24092\, US
DESCRIPTION:The Estate of Mildred H Shelton Online Auction  This is one
  of the finest collections of antique furniture that has be
 en offered in Southwest Virginia in a number of years. Featu
 ring handmade furniture from Franklin County\, VA\, Henkel H
 arris\, Eastlake\, Davis Cabinet Company and several other hig
 h-end manufacturers. This is a rare opportunity to buy quali
 ty antique furniture at the price you set! Mrs. Shelton had 
 a fantastic eye for antique furniture and we are honored to 
 be selected to bring it to public auction. Please review the
  auction details below: Bidding Opens - Tuesday\, October 8th
  beginning at 7PM Bidding Closes - Wednesday\, October 23rd b
 eginning at 7PM (Bidding closes at 3 lots per minute with 1
  minute extensions) Preview/Open-House - Wednesday\, October 
 23rd from 2PM until 5:30PM at 8235 Old Franklin Turnpike Gla
 de Hill\, VA 24092 Pickup/Removal - Thursday\, October 24th fr
 om 10AM until 5:30PM at 8235 Old Franklin Turnpike Glade Hil
 l\, VA 24092 Please Note: All items are sold as-is and where-
 is with no warranty expressed or implied. There is a 15% buy
 er premium on all purchases. Receive a 3% discount off the p
 remium by paying with cash or check. VA sales tax applies (5
 .3%) Bring Help To Load!
URL:https://www.luckydogauction.com/auctions/detail/bw127701
SEQUENCE:1
END:VEVENT
END:VCALENDAR