BEGIN:VCALENDAR
VERSION:2.0
PRODID:-//ExpressionEngine Easy iCalendar plugin//NONSGML v2.0.1//EN
X-WR-TIMEZONE:America/New_York
X-WR-CALNAME:Upcoming Auctions
BEGIN:VEVENT
UID:129065
DTSTAMP:20241009T120000
DTSTART:20241009T120000
DTEND:20241016T190000
SUMMARY:Glade Hill Estate Wholesale Auction
LOCATION:{location}
DESCRIPTION:Glade Hill Estate Wholesale Auction Wholesale opportunity. T
 his estate is being sold by the room. Take what you want and
  leave what you don't. There is a dumpster onsite. Address 
 will be given in buyers invoice at the end of the auction. H
 ouse is located in Glade Hill\, VA. Buyer(s) are responsible 
 for loading their items.  Bidding Opens - Wednesday\, Octobe
 r 9th at NOON Bidding Closes - Wednesday\, October 16th begin
 ning at 7PM Preview/Open-House - None Pickup/Removal - Thurs
 day\, October 17th from 9AM until 5:30PM - This is the ONLY r
 emoval date/time. If you can't make this work\, we ask you re
 frain from bidding.  Please Note: All items are sold as-is 
 and where-is with no warranty expressed or implied. There is
  a 15% buyer premium that applies to all purchases\, as does 
 VA sales tax. 
URL:https://www.luckydogauction.com/auctions/detail/bw129065
SEQUENCE:1
END:VEVENT
END:VCALENDAR