BEGIN:VCALENDAR
VERSION:2.0
PRODID:-//ExpressionEngine Easy iCalendar plugin//NONSGML v2.0.1//EN
X-WR-TIMEZONE:America/New_York
X-WR-CALNAME:Upcoming Auctions
BEGIN:VEVENT
UID:129773
DTSTAMP:20241112T190000
DTSTART:20241112T190000
DTEND:20241121T190000
SUMMARY:The Estate of William D Collins Online Auction
LOCATION:{location}
DESCRIPTION:The Estate of William D Collins Online Auction  Bidding Ope
 ns - Tuesday\, November 12th at 7PM Bidding Closes - Thursday
 \, November 21st beginning at 7PM Preview/Open-House - Thursd
 ay\, November 21st from 2PM until 5:30PM at 1105 Belle Isle D
 r Union Hall\, VA 24176 Pickup/Removal - Friday\, November 22n
 d from 10AM until 5:30PM at 1105 Belle Isle Dr Union Hall\, 
 VA 24176 Please Note: This is an onsite auction and pickup/p
 review is at 1105 Belle Isle Dr Union Hall\, VA 24176. All it
 ems are sold as-is and where-is with no warranty expressed o
 r implied. 15% buyer premium applies to all purchases\, as do
 es VA sales tax. Receive a 3% discount off the premium by pa
 ying with cash or good check. Virginia state sales tax appli
 es. 
URL:https://www.luckydogauction.com/auctions/detail/bw129773
SEQUENCE:1
END:VEVENT
END:VCALENDAR