BEGIN:VCALENDAR
VERSION:2.0
PRODID:-//ExpressionEngine Easy iCalendar plugin//NONSGML v2.0.1//EN
X-WR-TIMEZONE:America/New_York
X-WR-CALNAME:Upcoming Auctions
BEGIN:VEVENT
UID:129897
DTSTAMP:20241115T190000
DTSTART:20241115T190000
DTEND:20241125T190000
SUMMARY:Black Friday Auction
LOCATION:770 Cornell Rd\, Rocky Mount \, VA 24151\, US
DESCRIPTION:Black Friday Auction Bidding Opens - Friday\, November 15th a
 t 7PM Bidding Closes - Monday\, November 25th beginning at 7P
 M Preview/Open House - Monday\, November 25th from 2-5:30PM R
 emoval/Pickup - Tuesday\, November 26th from 10AM until 5:30
 PM Please Note:  All items are sold as-is and where-is with
  no warranty expressed or implied. There is a 15% buyer prem
 ium that applies to all purchases\, as does VA sales tax. Rec
 eive a 3% discount off the premium by paying with cash or ch
 eck.
URL:https://www.luckydogauction.com/auctions/detail/bw129897
SEQUENCE:1
END:VEVENT
END:VCALENDAR